BEGIN:VCALENDAR
VERSION:2.0
CALSCALE:GREGORIAN
PRODID:-//Diputació de Barcelona//DibaCMS//EN
BEGIN:VEVENT
UID:23618
DTSTAMP:20260421T162943
DTSTART:20130213T200000
DTEND:20130213T000000
SUMMARY:Enterrament de la sardina
LOCATION:
METHOD:PUBLISH
X-WR-CALNAME:e-seu@ajpiera.cat
X-WR-TIMEZONE:Europe/Madrid
DESCRIPTION:Enterrament de la sardina
URI:https://www.viladepiera.cat/actualitat/agenda/23618-enterrament-de-la-sardina.html
CLASS:PUBLIC
END:VEVENT
END:VCALENDAR
