BEGIN:VCALENDAR
VERSION:2.0
CALSCALE:GREGORIAN
PRODID:-//Diputació de Barcelona//DibaCMS//EN
BEGIN:VEVENT
UID:23619
DTSTAMP:20260422T133421
DTSTART:20111026T190000
DTEND:20111026T000000
SUMMARY:Conferència: El temps a l'Anoia
LOCATION:
METHOD:PUBLISH
X-WR-CALNAME:e-seu@ajpiera.cat
X-WR-TIMEZONE:Europe/Madrid
DESCRIPTION:Conferència: El temps a l'Anoia
URI:https://www.viladepiera.cat/actualitat/agenda/conferencia-el-temps-a-lanoia.html
CLASS:PUBLIC
END:VEVENT
END:VCALENDAR
