BEGIN:VCALENDAR
VERSION:2.0
CALSCALE:GREGORIAN
PRODID:-//Diputació de Barcelona//DibaCMS//EN
BEGIN:VEVENT
UID:23620
DTSTAMP:20260421T150237
DTSTART:20130215T190000
DTEND:20130215T000000
SUMMARY:Hàbits socials per afrontar els conflictes relacionals
LOCATION:
METHOD:PUBLISH
X-WR-CALNAME:e-seu@ajpiera.cat
X-WR-TIMEZONE:Europe/Madrid
DESCRIPTION:Hàbits socials per afrontar els conflictes relacionals
URI:https://www.viladepiera.cat/actualitat/agenda/habits-socials-per-afrontar-els-conflictes-relacionals.html
CLASS:PUBLIC
END:VEVENT
END:VCALENDAR
