BEGIN:VCALENDAR
VERSION:2.0
CALSCALE:GREGORIAN
PRODID:-//Diputació de Barcelona//DibaCMS//EN
BEGIN:VEVENT
UID:23621
DTSTAMP:20260421T202005
DTSTART:20130216T193000
DTEND:20130216T193000
SUMMARY:Indimash Fest
LOCATION:
METHOD:PUBLISH
X-WR-CALNAME:e-seu@ajpiera.cat
X-WR-TIMEZONE:Europe/Madrid
DESCRIPTION:Indimash Fest

URI:https://www.viladepiera.cat/actualitat/agenda/indimash-fest.html
CLASS:PUBLIC
END:VEVENT
END:VCALENDAR
