BEGIN:VCALENDAR
VERSION:2.0
CALSCALE:GREGORIAN
PRODID:-//Diputació de Barcelona//DibaCMS//EN
BEGIN:VEVENT
UID:23623
DTSTAMP:20260422T072920
DTSTART:20130217T130000
DTEND:20130217T000000
SUMMARY:Inauguració plaça Jove
LOCATION:
METHOD:PUBLISH
X-WR-CALNAME:e-seu@ajpiera.cat
X-WR-TIMEZONE:Europe/Madrid
DESCRIPTION:Inauguració plaça Jove
URI:https://www.viladepiera.cat/actualitat/agenda/inauguracio-placa-jove.html
CLASS:PUBLIC
END:VEVENT
END:VCALENDAR
