BEGIN:VCALENDAR
VERSION:2.0
CALSCALE:GREGORIAN
PRODID:-//Diputació de Barcelona//DibaCMS//EN
BEGIN:VEVENT
UID:23627
DTSTAMP:20260421T224321
DTSTART:20130220T173000
DTEND:20130220T000000
SUMMARY:Mini-Rusqui: El terrissaire
LOCATION:
METHOD:PUBLISH
X-WR-CALNAME:e-seu@ajpiera.cat
X-WR-TIMEZONE:Europe/Madrid
DESCRIPTION:Mini-Rusqui: El terrissaire
URI:https://www.viladepiera.cat/actualitat/agenda/mini-rusqui-el-terrissaire.html
CLASS:PUBLIC
END:VEVENT
END:VCALENDAR
