BEGIN:VCALENDAR
VERSION:2.0
CALSCALE:GREGORIAN
PRODID:-//Diputació de Barcelona//DibaCMS//EN
BEGIN:VEVENT
UID:23635
DTSTAMP:20260423T003026
DTSTART:20111031T230000
DTEND:20111101T050000
SUMMARY:8è Castanyada rock
LOCATION:
METHOD:PUBLISH
X-WR-CALNAME:e-seu@ajpiera.cat
X-WR-TIMEZONE:Europe/Madrid
DESCRIPTION:8è Castanyada rock
URI:https://www.viladepiera.cat/actualitat/agenda/8e-castanyada-rock.html
CLASS:PUBLIC
END:VEVENT
END:VCALENDAR
