BEGIN:VCALENDAR
VERSION:2.0
CALSCALE:GREGORIAN
PRODID:-//Diputació de Barcelona//DibaCMS//EN
BEGIN:VEVENT
UID:23636
DTSTAMP:20260421T173802
DTSTART:20130301T233000
DTEND:20130301T233000
SUMMARY:Concert nits temàtiques
LOCATION:
METHOD:PUBLISH
X-WR-CALNAME:e-seu@ajpiera.cat
X-WR-TIMEZONE:Europe/Madrid
DESCRIPTION:Concert nits temàtiques

URI:https://www.viladepiera.cat/actualitat/agenda/concert-nits-tematiques.html
CLASS:PUBLIC
END:VEVENT
END:VCALENDAR
