BEGIN:VCALENDAR
VERSION:2.0
CALSCALE:GREGORIAN
PRODID:-//Diputació de Barcelona//DibaCMS//EN
BEGIN:VEVENT
UID:23638
DTSTAMP:20260423T045619
DTSTART:20111031T153000
DTEND:20111031T000000
SUMMARY:Inauguració de l'exposició: Menja bé
LOCATION:
METHOD:PUBLISH
X-WR-CALNAME:e-seu@ajpiera.cat
X-WR-TIMEZONE:Europe/Madrid
DESCRIPTION:Inauguració de l'exposició: Menja bé
URI:https://www.viladepiera.cat/actualitat/agenda/inauguracio-de-lexposicio-menja-be.html
CLASS:PUBLIC
END:VEVENT
END:VCALENDAR
