BEGIN:VCALENDAR
VERSION:2.0
CALSCALE:GREGORIAN
PRODID:-//Diputació de Barcelona//DibaCMS//EN
BEGIN:VEVENT
UID:23639
DTSTAMP:20260421T115334
DTSTART:20130301T153000
DTEND:20130301T153000
SUMMARY:Inici d'exposició: Any Espriu
LOCATION:
METHOD:PUBLISH
X-WR-CALNAME:e-seu@ajpiera.cat
X-WR-TIMEZONE:Europe/Madrid
DESCRIPTION:Inici d'exposició: Any Espriu

URI:https://www.viladepiera.cat/actualitat/agenda/inici-dexposicio-any-espriu.html
CLASS:PUBLIC
END:VEVENT
END:VCALENDAR
