BEGIN:VCALENDAR
VERSION:2.0
CALSCALE:GREGORIAN
PRODID:-//Diputació de Barcelona//DibaCMS//EN
BEGIN:VEVENT
UID:23642
DTSTAMP:20260423T062835
DTSTART:20111102T210000
DTEND:20111102T000000
SUMMARY:Ple Extraordinari
LOCATION:
METHOD:PUBLISH
X-WR-CALNAME:e-seu@ajpiera.cat
X-WR-TIMEZONE:Europe/Madrid
DESCRIPTION:Ple Extraordinari
URI:https://www.viladepiera.cat/actualitat/agenda/23642-ple-extraordinari.html
CLASS:PUBLIC
END:VEVENT
END:VCALENDAR
