BEGIN:VCALENDAR
VERSION:2.0
CALSCALE:GREGORIAN
PRODID:-//Diputació de Barcelona//DibaCMS//EN
BEGIN:VEVENT
UID:23648
DTSTAMP:20260422T161646
DTSTART:20111110T190000
DTEND:20111110T000000
SUMMARY:Xerrada: Podem viure sense capitalisme
LOCATION:
METHOD:PUBLISH
X-WR-CALNAME:e-seu@ajpiera.cat
X-WR-TIMEZONE:Europe/Madrid
DESCRIPTION:Xerrada: Podem viure sense capitalisme
URI:https://www.viladepiera.cat/actualitat/agenda/xerrada-podem-viure-sense-capitalisme.html
CLASS:PUBLIC
END:VEVENT
END:VCALENDAR
