BEGIN:VCALENDAR
VERSION:2.0
CALSCALE:GREGORIAN
PRODID:-//Diputació de Barcelona//DibaCMS//EN
BEGIN:VEVENT
UID:23649
DTSTAMP:20260421T094729
DTSTART:20130308T193000
DTEND:20130308T000000
SUMMARY:Xerrada: Actituds saludables en temps de crisi
LOCATION:
METHOD:PUBLISH
X-WR-CALNAME:e-seu@ajpiera.cat
X-WR-TIMEZONE:Europe/Madrid
DESCRIPTION:Xerrada: Actituds saludables en temps de crisi
URI:https://www.viladepiera.cat/actualitat/agenda/xerrada-actituds-saludables-en-temps-de-crisi.html
CLASS:PUBLIC
END:VEVENT
END:VCALENDAR
