BEGIN:VCALENDAR
VERSION:2.0
CALSCALE:GREGORIAN
PRODID:-//Diputació de Barcelona//DibaCMS//EN
BEGIN:VEVENT
UID:23651
DTSTAMP:20260423T045732
DTSTART:20111110T180000
DTEND:20111110T000000
SUMMARY:Xerrada: El massatge infantil
LOCATION:
METHOD:PUBLISH
X-WR-CALNAME:e-seu@ajpiera.cat
X-WR-TIMEZONE:Europe/Madrid
DESCRIPTION:Xerrada: El massatge infantil
URI:https://www.viladepiera.cat/actualitat/agenda/xerrada-el-massatge-infantil.html
CLASS:PUBLIC
END:VEVENT
END:VCALENDAR
