BEGIN:VCALENDAR
VERSION:2.0
CALSCALE:GREGORIAN
PRODID:-//Diputació de Barcelona//DibaCMS//EN
BEGIN:VEVENT
UID:23652
DTSTAMP:20260421T105302
DTSTART:20130311T173000
DTEND:20130311T000000
SUMMARY:Mini-Rusqui: Fem teatre!
LOCATION:
METHOD:PUBLISH
X-WR-CALNAME:e-seu@ajpiera.cat
X-WR-TIMEZONE:Europe/Madrid
DESCRIPTION:Mini-Rusqui: Fem teatre!
URI:https://www.viladepiera.cat/actualitat/agenda/23652-mini-rusqui-fem-teatre.html
CLASS:PUBLIC
END:VEVENT
END:VCALENDAR
