BEGIN:VCALENDAR
VERSION:2.0
CALSCALE:GREGORIAN
PRODID:-//Diputació de Barcelona//DibaCMS//EN
BEGIN:VEVENT
UID:23655
DTSTAMP:20260423T000557
DTSTART:20111111T180000
DTEND:20111111T000000
SUMMARY:Club de literatura i cinema
LOCATION:
METHOD:PUBLISH
X-WR-CALNAME:e-seu@ajpiera.cat
X-WR-TIMEZONE:Europe/Madrid
DESCRIPTION:Club de literatura i cinema
URI:https://www.viladepiera.cat/actualitat/agenda/23655-club-de-literatura-i-cinema.html
CLASS:PUBLIC
END:VEVENT
END:VCALENDAR
