BEGIN:VCALENDAR
VERSION:2.0
CALSCALE:GREGORIAN
PRODID:-//Diputació de Barcelona//DibaCMS//EN
BEGIN:VEVENT
UID:23658
DTSTAMP:20260423T003828
DTSTART:20111115T183000
DTEND:20111115T000000
SUMMARY:Club de lectura
LOCATION:
METHOD:PUBLISH
X-WR-CALNAME:e-seu@ajpiera.cat
X-WR-TIMEZONE:Europe/Madrid
DESCRIPTION:Club de lectura
URI:https://www.viladepiera.cat/actualitat/agenda/23658-club-de-lectura.html
CLASS:PUBLIC
END:VEVENT
END:VCALENDAR
