BEGIN:VCALENDAR
VERSION:2.0
CALSCALE:GREGORIAN
PRODID:-//Diputació de Barcelona//DibaCMS//EN
BEGIN:VEVENT
UID:23661
DTSTAMP:20260422T173913
DTSTART:20111115T000000
DTEND:20111115T000000
SUMMARY:Inauguració de l'exposició: Consumeix fins a morir
LOCATION:
METHOD:PUBLISH
X-WR-CALNAME:e-seu@ajpiera.cat
X-WR-TIMEZONE:Europe/Madrid
DESCRIPTION:Inauguració de l'exposició: Consumeix fins a morir
URI:https://www.viladepiera.cat/actualitat/agenda/inauguracio-de-lexposicio-consumeix-fins-a-morir.html
CLASS:PUBLIC
END:VEVENT
END:VCALENDAR
