BEGIN:VCALENDAR
VERSION:2.0
CALSCALE:GREGORIAN
PRODID:-//Diputació de Barcelona//DibaCMS//EN
BEGIN:VEVENT
UID:23667
DTSTAMP:20260421T174042
DTSTART:20130326T190000
DTEND:20130326T000000
SUMMARY:Xerrada: Un teatre necessari
LOCATION:
METHOD:PUBLISH
X-WR-CALNAME:e-seu@ajpiera.cat
X-WR-TIMEZONE:Europe/Madrid
DESCRIPTION:Xerrada: Un teatre necessari
URI:https://www.viladepiera.cat/actualitat/agenda/xerrada-un-teatre-necessari.html
CLASS:PUBLIC
END:VEVENT
END:VCALENDAR
