BEGIN:VCALENDAR
VERSION:2.0
CALSCALE:GREGORIAN
PRODID:-//Diputació de Barcelona//DibaCMS//EN
BEGIN:VEVENT
UID:23668
DTSTAMP:20260422T161608
DTSTART:20111118T190000
DTEND:20111118T000000
SUMMARY:Conferència: Mogut o hiperactiu?
LOCATION:
METHOD:PUBLISH
X-WR-CALNAME:e-seu@ajpiera.cat
X-WR-TIMEZONE:Europe/Madrid
DESCRIPTION:Conferència: Mogut o hiperactiu?
URI:https://www.viladepiera.cat/actualitat/agenda/conferencia-mogut-o-hiperactiu.html
CLASS:PUBLIC
END:VEVENT
END:VCALENDAR
