BEGIN:VCALENDAR
VERSION:2.0
CALSCALE:GREGORIAN
PRODID:-//Diputació de Barcelona//DibaCMS//EN
BEGIN:VEVENT
UID:23670
DTSTAMP:20260421T190039
DTSTART:20130330T180000
DTEND:20130330T000000
SUMMARY:La màgia del Mag Lari
LOCATION:
METHOD:PUBLISH
X-WR-CALNAME:e-seu@ajpiera.cat
X-WR-TIMEZONE:Europe/Madrid
DESCRIPTION:La màgia del Mag Lari
URI:https://www.viladepiera.cat/actualitat/agenda/la-magia-del-mag-lari.html
CLASS:PUBLIC
END:VEVENT
END:VCALENDAR
