BEGIN:VCALENDAR
VERSION:2.0
CALSCALE:GREGORIAN
PRODID:-//Diputació de Barcelona//DibaCMS//EN
BEGIN:VEVENT
UID:23671
DTSTAMP:20260423T062733
DTSTART:20111118T100000
DTEND:20111118T000000
SUMMARY:Anem al teatre
LOCATION:
METHOD:PUBLISH
X-WR-CALNAME:e-seu@ajpiera.cat
X-WR-TIMEZONE:Europe/Madrid
DESCRIPTION:Anem al teatre
URI:https://www.viladepiera.cat/actualitat/agenda/23671-anem-al-teatre.html
CLASS:PUBLIC
END:VEVENT
END:VCALENDAR
