BEGIN:VCALENDAR
VERSION:2.0
CALSCALE:GREGORIAN
PRODID:-//Diputació de Barcelona//DibaCMS//EN
BEGIN:VEVENT
UID:23676
DTSTAMP:20260421T162451
DTSTART:20130403T180000
DTEND:20130403T000000
SUMMARY:Rusquicontes: El bagul dels contes oblidats
LOCATION:
METHOD:PUBLISH
X-WR-CALNAME:e-seu@ajpiera.cat
X-WR-TIMEZONE:Europe/Madrid
DESCRIPTION:Rusquicontes: El bagul dels contes oblidats
URI:https://www.viladepiera.cat/actualitat/agenda/rusquicontes-el-bagul-dels-contes-oblidats.html
CLASS:PUBLIC
END:VEVENT
END:VCALENDAR
