BEGIN:VCALENDAR
VERSION:2.0
CALSCALE:GREGORIAN
PRODID:-//Diputació de Barcelona//DibaCMS//EN
BEGIN:VEVENT
UID:23678
DTSTAMP:20260422T230254
DTSTART:20111122T190000
DTEND:20111122T000000
SUMMARY:Conferència: Fosses comunes, un passat no oblidat
LOCATION:
METHOD:PUBLISH
X-WR-CALNAME:e-seu@ajpiera.cat
X-WR-TIMEZONE:Europe/Madrid
DESCRIPTION:Conferència: Fosses comunes, un passat no oblidat
URI:https://www.viladepiera.cat/actualitat/agenda/conferencia-fosses-comunes-un-passat-no-oblidat.html
CLASS:PUBLIC
END:VEVENT
END:VCALENDAR
