BEGIN:VCALENDAR
VERSION:2.0
CALSCALE:GREGORIAN
PRODID:-//Diputació de Barcelona//DibaCMS//EN
BEGIN:VEVENT
UID:23682
DTSTAMP:20260421T104501
DTSTART:20130405T000000
DTEND:20130405T000000
SUMMARY:Inici d'exposició: La fantasia inventada
LOCATION:
METHOD:PUBLISH
X-WR-CALNAME:e-seu@ajpiera.cat
X-WR-TIMEZONE:Europe/Madrid
DESCRIPTION:Inici d'exposició: La fantasia inventada
URI:https://www.viladepiera.cat/actualitat/agenda/inici-dexposicio-la-fantasia-inventada.html
CLASS:PUBLIC
END:VEVENT
END:VCALENDAR
