BEGIN:VCALENDAR
VERSION:2.0
CALSCALE:GREGORIAN
PRODID:-//Diputació de Barcelona//DibaCMS//EN
BEGIN:VEVENT
UID:23684
DTSTAMP:20260423T012003
DTSTART:20111125T184500
DTEND:20111125T000000
SUMMARY:La bancarització de les caixes
LOCATION:
METHOD:PUBLISH
X-WR-CALNAME:e-seu@ajpiera.cat
X-WR-TIMEZONE:Europe/Madrid
DESCRIPTION:La bancarització de les caixes
URI:https://www.viladepiera.cat/actualitat/agenda/la-bancaritzacio-de-les-caixes.html
CLASS:PUBLIC
END:VEVENT
END:VCALENDAR
