BEGIN:VCALENDAR
VERSION:2.0
CALSCALE:GREGORIAN
PRODID:-//Diputació de Barcelona//DibaCMS//EN
BEGIN:VEVENT
UID:23687
DTSTAMP:20260423T074130
DTSTART:20111125T180000
DTEND:20111125T000000
SUMMARY:Dia Internacional contra la Violència de Gènere
LOCATION:
METHOD:PUBLISH
X-WR-CALNAME:e-seu@ajpiera.cat
X-WR-TIMEZONE:Europe/Madrid
DESCRIPTION:Dia Internacional contra la Violència de Gènere
URI:https://www.viladepiera.cat/actualitat/agenda/23687-dia-internacional-contra-la-violencia-de-genere.html
CLASS:PUBLIC
END:VEVENT
END:VCALENDAR
