BEGIN:VCALENDAR
VERSION:2.0
CALSCALE:GREGORIAN
PRODID:-//Diputació de Barcelona//DibaCMS//EN
BEGIN:VEVENT
UID:23689
DTSTAMP:20260421T150315
DTSTART:20130410T000000
DTEND:20130410T000000
SUMMARY:Esmorzars i berenars solidaris
LOCATION:
METHOD:PUBLISH
X-WR-CALNAME:e-seu@ajpiera.cat
X-WR-TIMEZONE:Europe/Madrid
DESCRIPTION:Esmorzars i berenars solidaris

URI:https://www.viladepiera.cat/actualitat/agenda/esmorzars-i-berenars-solidaris.html
CLASS:PUBLIC
END:VEVENT
END:VCALENDAR
