BEGIN:VCALENDAR
VERSION:2.0
CALSCALE:GREGORIAN
PRODID:-//Diputació de Barcelona//DibaCMS//EN
BEGIN:VEVENT
UID:23690
DTSTAMP:20260422T161102
DTSTART:20111125T200000
DTEND:20111125T000000
SUMMARY:Inside job
LOCATION:
METHOD:PUBLISH
X-WR-CALNAME:e-seu@ajpiera.cat
X-WR-TIMEZONE:Europe/Madrid
DESCRIPTION:Inside job
URI:https://www.viladepiera.cat/actualitat/agenda/inside-job.html
CLASS:PUBLIC
END:VEVENT
END:VCALENDAR
