BEGIN:VCALENDAR
VERSION:2.0
CALSCALE:GREGORIAN
PRODID:-//Diputació de Barcelona//DibaCMS//EN
BEGIN:VEVENT
UID:23693
DTSTAMP:20260422T150032
DTSTART:20111127T100000
DTEND:20111127T000000
SUMMARY:Excursió de Sant Jaume a la Fortesa
LOCATION:
METHOD:PUBLISH
X-WR-CALNAME:e-seu@ajpiera.cat
X-WR-TIMEZONE:Europe/Madrid
DESCRIPTION:Excursió de Sant Jaume a la Fortesa
URI:https://www.viladepiera.cat/actualitat/agenda/excursio-de-sant-jaume-a-la-fortesa.html
CLASS:PUBLIC
END:VEVENT
END:VCALENDAR
