BEGIN:VCALENDAR
VERSION:2.0
CALSCALE:GREGORIAN
PRODID:-//Diputació de Barcelona//DibaCMS//EN
BEGIN:VEVENT
UID:23699
DTSTAMP:20260422T174805
DTSTART:20111127T000000
DTEND:20111127T000000
SUMMARY:23a Cursa de l'esquiador
LOCATION:
METHOD:PUBLISH
X-WR-CALNAME:e-seu@ajpiera.cat
X-WR-TIMEZONE:Europe/Madrid
DESCRIPTION:23a Cursa de l'esquiador

URI:https://www.viladepiera.cat/actualitat/agenda/23a-cursa-de-lesquiador.html
CLASS:PUBLIC
END:VEVENT
END:VCALENDAR
