BEGIN:VCALENDAR
VERSION:2.0
CALSCALE:GREGORIAN
PRODID:-//Diputació de Barcelona//DibaCMS//EN
BEGIN:VEVENT
UID:23700
DTSTAMP:20260421T173812
DTSTART:20130417T190000
DTEND:20130417T000000
SUMMARY:Què han de menjar els nostres fills?
LOCATION:
METHOD:PUBLISH
X-WR-CALNAME:e-seu@ajpiera.cat
X-WR-TIMEZONE:Europe/Madrid
DESCRIPTION:Què han de menjar els nostres fills?
URI:https://www.viladepiera.cat/actualitat/agenda/que-han-de-menjar-els-nostres-fills.html
CLASS:PUBLIC
END:VEVENT
END:VCALENDAR
