BEGIN:VCALENDAR
VERSION:2.0
CALSCALE:GREGORIAN
PRODID:-//Diputació de Barcelona//DibaCMS//EN
BEGIN:VEVENT
UID:23703
DTSTAMP:20260422T145427
DTSTART:20111129T180000
DTEND:20111129T000000
SUMMARY:Una mà de contes
LOCATION:
METHOD:PUBLISH
X-WR-CALNAME:e-seu@ajpiera.cat
X-WR-TIMEZONE:Europe/Madrid
DESCRIPTION:Una mà de contes
URI:https://www.viladepiera.cat/actualitat/agenda/una-ma-de-contes.html
CLASS:PUBLIC
END:VEVENT
END:VCALENDAR
