BEGIN:VCALENDAR
VERSION:2.0
CALSCALE:GREGORIAN
PRODID:-//Diputació de Barcelona//DibaCMS//EN
BEGIN:VEVENT
UID:23705
DTSTAMP:20260421T105046
DTSTART:20130420T000000
DTEND:20130421T000000
SUMMARY:Fira del Sant Crist
LOCATION:
METHOD:PUBLISH
X-WR-CALNAME:e-seu@ajpiera.cat
X-WR-TIMEZONE:Europe/Madrid
DESCRIPTION:Fira del Sant Crist

URI:https://www.viladepiera.cat/actualitat/agenda/23705-fira-del-sant-crist.html
CLASS:PUBLIC
END:VEVENT
END:VCALENDAR
