BEGIN:VCALENDAR
VERSION:2.0
CALSCALE:GREGORIAN
PRODID:-//Diputació de Barcelona//DibaCMS//EN
BEGIN:VEVENT
UID:23710
DTSTAMP:20260421T094606
DTSTART:20130423T190000
DTEND:20130423T000000
SUMMARY:Els papers dels Parellada
LOCATION:
METHOD:PUBLISH
X-WR-CALNAME:e-seu@ajpiera.cat
X-WR-TIMEZONE:Europe/Madrid
DESCRIPTION:Els papers dels Parellada
URI:https://www.viladepiera.cat/actualitat/agenda/els-papers-dels-parellada.html
CLASS:PUBLIC
END:VEVENT
END:VCALENDAR
