BEGIN:VCALENDAR
VERSION:2.0
CALSCALE:GREGORIAN
PRODID:-//Diputació de Barcelona//DibaCMS//EN
BEGIN:VEVENT
UID:23713
DTSTAMP:20260421T110254
DTSTART:20130423T173000
DTEND:20130423T173000
SUMMARY:Lliurament de premis dels Jocs Florals
LOCATION:
METHOD:PUBLISH
X-WR-CALNAME:e-seu@ajpiera.cat
X-WR-TIMEZONE:Europe/Madrid
DESCRIPTION:Lliurament de premis dels Jocs Florals

URI:https://www.viladepiera.cat/actualitat/agenda/23713-lliurament-de-premis-dels-jocs-florals.html
CLASS:PUBLIC
END:VEVENT
END:VCALENDAR
