BEGIN:VCALENDAR
VERSION:2.0
CALSCALE:GREGORIAN
PRODID:-//Diputació de Barcelona//DibaCMS//EN
BEGIN:VEVENT
UID:23716
DTSTAMP:20260421T105602
DTSTART:20130425T070000
DTEND:20130425T180000
SUMMARY:Tall d'Aigua
LOCATION:
METHOD:PUBLISH
X-WR-CALNAME:e-seu@ajpiera.cat
X-WR-TIMEZONE:Europe/Madrid
DESCRIPTION:Tall d'Aigua
URI:https://www.viladepiera.cat/actualitat/agenda/tall-daigua.html
CLASS:PUBLIC
END:VEVENT
END:VCALENDAR
