BEGIN:VCALENDAR
VERSION:2.0
CALSCALE:GREGORIAN
PRODID:-//Diputació de Barcelona//DibaCMS//EN
BEGIN:VEVENT
UID:23719
DTSTAMP:20260422T133008
DTSTART:20111204T173000
DTEND:20111204T000000
SUMMARY:Gala de Piera Televisió
LOCATION:
METHOD:PUBLISH
X-WR-CALNAME:e-seu@ajpiera.cat
X-WR-TIMEZONE:Europe/Madrid
DESCRIPTION:Gala de Piera Televisió
URI:https://www.viladepiera.cat/actualitat/agenda/23719-gala-de-piera-televisio.html
CLASS:PUBLIC
END:VEVENT
END:VCALENDAR
