BEGIN:VCALENDAR
VERSION:2.0
CALSCALE:GREGORIAN
PRODID:-//Diputació de Barcelona//DibaCMS//EN
BEGIN:VEVENT
UID:23724
DTSTAMP:20260421T115303
DTSTART:20130502T000000
DTEND:20130502T000000
SUMMARY:Inici d'exposició: Ens movem!
LOCATION:
METHOD:PUBLISH
X-WR-CALNAME:e-seu@ajpiera.cat
X-WR-TIMEZONE:Europe/Madrid
DESCRIPTION:Inici d'exposició: Ens movem!

URI:https://www.viladepiera.cat/actualitat/agenda/inici-dexposicio-ens-movem.html
CLASS:PUBLIC
END:VEVENT
END:VCALENDAR
