BEGIN:VCALENDAR
VERSION:2.0
CALSCALE:GREGORIAN
PRODID:-//Diputació de Barcelona//DibaCMS//EN
BEGIN:VEVENT
UID:23725
DTSTAMP:20260422T122726
DTSTART:20111206T090000
DTEND:20111206T210000
SUMMARY:3x3 bàsquet Piera
LOCATION:
METHOD:PUBLISH
X-WR-CALNAME:e-seu@ajpiera.cat
X-WR-TIMEZONE:Europe/Madrid
DESCRIPTION:3x3 bàsquet Piera
URI:https://www.viladepiera.cat/actualitat/agenda/3x3-basquet-piera.html
CLASS:PUBLIC
END:VEVENT
END:VCALENDAR
