BEGIN:VCALENDAR
VERSION:2.0
CALSCALE:GREGORIAN
PRODID:-//Diputació de Barcelona//DibaCMS//EN
BEGIN:VEVENT
UID:23728
DTSTAMP:20260422T160011
DTSTART:20111209T180000
DTEND:20111209T000000
SUMMARY:Taller de poesia
LOCATION:
METHOD:PUBLISH
X-WR-CALNAME:e-seu@ajpiera.cat
X-WR-TIMEZONE:Europe/Madrid
DESCRIPTION:Taller de poesia
URI:https://www.viladepiera.cat/actualitat/agenda/taller-de-poesia.html
CLASS:PUBLIC
END:VEVENT
END:VCALENDAR
