BEGIN:VCALENDAR
VERSION:2.0
CALSCALE:GREGORIAN
PRODID:-//Diputació de Barcelona//DibaCMS//EN
BEGIN:VEVENT
UID:23731
DTSTAMP:20260422T124521
DTSTART:20111210T100000
DTEND:20111210T180000
SUMMARY:III Fira de Nadal
LOCATION:
METHOD:PUBLISH
X-WR-CALNAME:e-seu@ajpiera.cat
X-WR-TIMEZONE:Europe/Madrid
DESCRIPTION:III Fira de Nadal
URI:https://www.viladepiera.cat/actualitat/agenda/iii-fira-de-nadal.html
CLASS:PUBLIC
END:VEVENT
END:VCALENDAR
