BEGIN:VCALENDAR
VERSION:2.0
CALSCALE:GREGORIAN
PRODID:-//Diputació de Barcelona//DibaCMS//EN
BEGIN:VEVENT
UID:23734
DTSTAMP:20260422T200604
DTSTART:20111211T190000
DTEND:20111211T000000
SUMMARY:Tarda de ball
LOCATION:
METHOD:PUBLISH
X-WR-CALNAME:e-seu@ajpiera.cat
X-WR-TIMEZONE:Europe/Madrid
DESCRIPTION:Tarda de ball
URI:https://www.viladepiera.cat/actualitat/agenda/tarda-de-ball.html
CLASS:PUBLIC
END:VEVENT
END:VCALENDAR
