BEGIN:VCALENDAR
VERSION:2.0
CALSCALE:GREGORIAN
PRODID:-//Diputació de Barcelona//DibaCMS//EN
BEGIN:VEVENT
UID:23740
DTSTAMP:20260423T062605
DTSTART:20111212T000000
DTEND:20111212T000000
SUMMARY:Piera als teus peus
LOCATION:
METHOD:PUBLISH
X-WR-CALNAME:e-seu@ajpiera.cat
X-WR-TIMEZONE:Europe/Madrid
DESCRIPTION:Piera als teus peus
URI:https://www.viladepiera.cat/actualitat/agenda/piera-als-teus-peus.html
CLASS:PUBLIC
END:VEVENT
END:VCALENDAR
