BEGIN:VCALENDAR
VERSION:2.0
CALSCALE:GREGORIAN
PRODID:-//Diputació de Barcelona//DibaCMS//EN
BEGIN:VEVENT
UID:23743
DTSTAMP:20260423T013044
DTSTART:20111212T080000
DTEND:20111212T000000
SUMMARY:Excursió pre-Nadal
LOCATION:
METHOD:PUBLISH
X-WR-CALNAME:e-seu@ajpiera.cat
X-WR-TIMEZONE:Europe/Madrid
DESCRIPTION:Excursió pre-Nadal
URI:https://www.viladepiera.cat/actualitat/agenda/excursio-pre-nadal.html
CLASS:PUBLIC
END:VEVENT
END:VCALENDAR
