BEGIN:VCALENDAR
VERSION:2.0
CALSCALE:GREGORIAN
PRODID:-//Diputació de Barcelona//DibaCMS//EN
BEGIN:VEVENT
UID:23752
DTSTAMP:20260423T000436
DTSTART:20111213T183000
DTEND:20111213T000000
SUMMARY:Club de lectura
LOCATION:
METHOD:PUBLISH
X-WR-CALNAME:e-seu@ajpiera.cat
X-WR-TIMEZONE:Europe/Madrid
DESCRIPTION:Club de lectura
URI:https://www.viladepiera.cat/actualitat/agenda/23752-club-de-lectura.html
CLASS:PUBLIC
END:VEVENT
END:VCALENDAR
