BEGIN:VCALENDAR
VERSION:2.0
CALSCALE:GREGORIAN
PRODID:-//Diputació de Barcelona//DibaCMS//EN
BEGIN:VEVENT
UID:23755
DTSTAMP:20260422T161716
DTSTART:20111214T180000
DTEND:20111214T000000
SUMMARY:Contes a cau d'orella
LOCATION:
METHOD:PUBLISH
X-WR-CALNAME:e-seu@ajpiera.cat
X-WR-TIMEZONE:Europe/Madrid
DESCRIPTION:Contes a cau d'orella
URI:https://www.viladepiera.cat/actualitat/agenda/23755-contes-a-cau-dorella.html
CLASS:PUBLIC
END:VEVENT
END:VCALENDAR
