BEGIN:VCALENDAR
VERSION:2.0
CALSCALE:GREGORIAN
PRODID:-//Diputació de Barcelona//DibaCMS//EN
BEGIN:VEVENT
UID:23758
DTSTAMP:20260422T213754
DTSTART:20111214T180000
DTEND:20111214T180000
SUMMARY:I Cantada de nadales popular
LOCATION:
METHOD:PUBLISH
X-WR-CALNAME:e-seu@ajpiera.cat
X-WR-TIMEZONE:Europe/Madrid
DESCRIPTION:I Cantada de nadales popular

URI:https://www.viladepiera.cat/actualitat/agenda/i-cantada-de-nadales-popular.html
CLASS:PUBLIC
END:VEVENT
END:VCALENDAR
