BEGIN:VCALENDAR
VERSION:2.0
CALSCALE:GREGORIAN
PRODID:-//Diputació de Barcelona//DibaCMS//EN
BEGIN:VEVENT
UID:23767
DTSTAMP:20260422T132934
DTSTART:20111216T100000
DTEND:20111216T210000
SUMMARY:Marató de joguines
LOCATION:
METHOD:PUBLISH
X-WR-CALNAME:e-seu@ajpiera.cat
X-WR-TIMEZONE:Europe/Madrid
DESCRIPTION:Marató de joguines
URI:https://www.viladepiera.cat/actualitat/agenda/23767-marato-de-joguines.html
CLASS:PUBLIC
END:VEVENT
END:VCALENDAR
