BEGIN:VCALENDAR
VERSION:2.0
CALSCALE:GREGORIAN
PRODID:-//Diputació de Barcelona//DibaCMS//EN
BEGIN:VEVENT
UID:23776
DTSTAMP:20260422T123558
DTSTART:20111217T100000
DTEND:20111217T220000
SUMMARY:XIII Marató de Piera Televisió
LOCATION:
METHOD:PUBLISH
X-WR-CALNAME:e-seu@ajpiera.cat
X-WR-TIMEZONE:Europe/Madrid
DESCRIPTION:XIII Marató de Piera Televisió
URI:https://www.viladepiera.cat/actualitat/agenda/xiii-marato-de-piera-televisio.html
CLASS:PUBLIC
END:VEVENT
END:VCALENDAR
